BEGIN:VCALENDAR
VERSION:2.0
PRODID:-//Stuyvesant Plaza - ECPv6.8.3//NONSGML v1.0//EN
CALSCALE:GREGORIAN
METHOD:PUBLISH
X-WR-CALNAME:Stuyvesant Plaza
X-ORIGINAL-URL:https://stuyvesantplaza.com
X-WR-CALDESC:Events for Stuyvesant Plaza
REFRESH-INTERVAL;VALUE=DURATION:PT1H
X-Robots-Tag:noindex
X-PUBLISHED-TTL:PT1H
BEGIN:VTIMEZONE
TZID:UTC
BEGIN:STANDARD
TZOFFSETFROM:+0000
TZOFFSETTO:+0000
TZNAME:UTC
DTSTART:20260101T000000
END:STANDARD
END:VTIMEZONE
BEGIN:VEVENT
DTSTART;TZID=UTC:20260509T100000
DTEND;TZID=UTC:20260509T130000
DTSTAMP:20260425T135226
CREATED:20260413T143050Z
LAST-MODIFIED:20260413T143050Z
UID:2128-1778320800-1778331600@stuyvesantplaza.com
SUMMARY:Mother's Day Social
DESCRIPTION:📅 Saturday\, May 9 | 10:00 AM – 1:00 PM\n📍 Circles | Athleta | Anthropologie\n🎟 $15 | Limited Space | Ages 21+\n✨ Proceeds benefit Girls On The Run Capital Region \nCelebrate the incredible moms in your life with a stylish spring outing filled with beauty\, joy\, and a little retail therapy – all in support of Girls on the Run Capital Region. \n10–11 AM | Circles\nKick off the day at Circles\, featuring a curated mix of sought-after designers and emerging brands. \n\nWelcome Gift & Circles Gift With Purchase: Guests will receive a complimentary welcome gift upon check-in\, plus a special gift with purchase from Circles.\nLola Saratoga Pop-Up & Forever Bracelets: Explore luxury bags and jewelry from Lola Saratoga during their exclusive pop-up\, or treat yourself to a forever bracelet (available for an additional cost).\nJean Paul Spa & Salon Curl & Make Up Bar: Looking to be pampered? Enjoy Jean Paul’s complimentary curl bar and makeup touch-up station\, or add a little sparkle with 4–6 strands of hair tinsel for $10.\nProsecco Sips & Snacks: Sip and snack on light bites and welcome drinks courtesy of Jacob & Anthony’s Italian.\n\n11 AM–12 PM | Athleta\nNext\, head to Athleta for a relaxed shopping experience! \n\nAthleta Gift Cards: Complimentary gift card included with your ticket!\nRad Soap Co. Pop-Up: Discover favorites from Rad Soap Co. at their in-store pop-up\nBARE Blends Pop-Up: Sample delicious offerings from BARE Blends\, and try your luck with spin-the-wheel prizes. And that’s just the beginning.\n\n12–1 PM | Anthropologie\nWrap up the afternoon at Anthropologie! \n\nBeats by DJ Ayo: Enjoy live music from DJ Ayo!\nAnthropologie Gift With Purchase: Receive a full-size Capri Blue Volcano candle (a $40 value) with any purchase!\nKendra Scott Pop-Up: Get blinged up and purchase from a Kendra Scott pop-up.\nProsecco Sips & Bites: End on a high note with prosecco service and a beautifully curated brunch board\, courtesy of Jacob & Anthony’s Italian.\n\nIt’s the perfect way to celebrate\, shop\, and give back—all in one unforgettable morning. \n🌷 Pre-registration is required. Tickets are limited and expected to sell out—don’t wait!\n🌷 All ticket sales are final. Must be 21 or older to attend. \nPlease note that by taking part in this event\, you grant the event organizers full rights to use the images resulting from photography/video filming. If you do not wish to be photographed\, please let the staff and/or photographer know. \nBy registering for this event\, you agree to sign up for promotional emails from Stuyvesant Plaza. You may unsubscribe at any time by clicking the “Unsubscribe” button at the bottom of our emails. \n 
URL:https://stuyvesantplaza.com/event/mothers-day-social-2/
ATTACH;FMTTYPE=image/jpeg:https://stuyvesantplaza.com/wp-content/uploads/sites/17/2026/04/SP-MKT-I-16947_Mothers-Day-Social-2026_FTR-1.jpg
END:VEVENT
END:VCALENDAR